BEGIN:VCALENDAR
VERSION:2.0
PRODID:-//Albert Haase, OFM - ECPv6.15.20//NONSGML v1.0//EN
CALSCALE:GREGORIAN
METHOD:PUBLISH
X-WR-CALNAME:Albert Haase, OFM
X-ORIGINAL-URL:https://albertofm.org
X-WR-CALDESC:Events for Albert Haase, OFM
REFRESH-INTERVAL;VALUE=DURATION:PT1H
X-Robots-Tag:noindex
X-PUBLISHED-TTL:PT1H
BEGIN:VTIMEZONE
TZID:America/Chicago
BEGIN:DAYLIGHT
TZOFFSETFROM:-0600
TZOFFSETTO:-0500
TZNAME:CDT
DTSTART:20190310T080000
END:DAYLIGHT
BEGIN:STANDARD
TZOFFSETFROM:-0500
TZOFFSETTO:-0600
TZNAME:CST
DTSTART:20191103T070000
END:STANDARD
BEGIN:DAYLIGHT
TZOFFSETFROM:-0600
TZOFFSETTO:-0500
TZNAME:CDT
DTSTART:20200308T080000
END:DAYLIGHT
BEGIN:STANDARD
TZOFFSETFROM:-0500
TZOFFSETTO:-0600
TZNAME:CST
DTSTART:20201101T070000
END:STANDARD
BEGIN:DAYLIGHT
TZOFFSETFROM:-0600
TZOFFSETTO:-0500
TZNAME:CDT
DTSTART:20210314T080000
END:DAYLIGHT
BEGIN:STANDARD
TZOFFSETFROM:-0500
TZOFFSETTO:-0600
TZNAME:CST
DTSTART:20211107T070000
END:STANDARD
BEGIN:DAYLIGHT
TZOFFSETFROM:-0600
TZOFFSETTO:-0500
TZNAME:CDT
DTSTART:20220313T080000
END:DAYLIGHT
BEGIN:STANDARD
TZOFFSETFROM:-0500
TZOFFSETTO:-0600
TZNAME:CST
DTSTART:20221106T070000
END:STANDARD
END:VTIMEZONE
BEGIN:VEVENT
DTSTART;TZID=America/Chicago:20211110T080000
DTEND;TZID=America/Chicago:20211111T170000
DTSTAMP:20260422T051038
CREATED:20210125T192614Z
LAST-MODIFIED:20210125T192614Z
UID:1782-1636531200-1636650000@albertofm.org
SUMMARY:PREACH Deanery Days of Reflection\, Diocese of San Angelo TX
DESCRIPTION:
URL:https://albertofm.org/event/preach-deanery-days-of-reflection-diocese-of-san-angelo-tx/
END:VEVENT
BEGIN:VEVENT
DTSTART;TZID=America/Chicago:20211029T190000
DTEND;TZID=America/Chicago:20211031T190000
DTSTAMP:20260422T051038
CREATED:20210101T125134Z
LAST-MODIFIED:20210101T125134Z
UID:1769-1635534000-1635706800@albertofm.org
SUMMARY:PREACH Retreat to Permanent Deacons\, Orange CA
DESCRIPTION:
URL:https://albertofm.org/event/preach-retreat-to-permanent-deacons-orange-ca/
END:VEVENT
BEGIN:VEVENT
DTSTART;TZID=America/Chicago:20211023T080000
DTEND;TZID=America/Chicago:20211027T170000
DTSTAMP:20260422T051038
CREATED:20210708T165803Z
LAST-MODIFIED:20210708T165803Z
UID:1829-1634976000-1635354000@albertofm.org
SUMMARY:PREACH RETREAT to OFM Postulants\, Washington DC
DESCRIPTION:
URL:https://albertofm.org/event/preach-retreat-to-ofm-postulants-washington-dc/
END:VEVENT
BEGIN:VEVENT
DTSTART;TZID=America/Chicago:20211016T080000
DTEND;TZID=America/Chicago:20211020T170000
DTSTAMP:20260422T051038
CREATED:20200703T232100Z
LAST-MODIFIED:20200703T232100Z
UID:1673-1634371200-1634749200@albertofm.org
SUMMARY:PREACH PARISH MISSION: St. Elizabeth Ann Seton Church\, Las Vegas NV
DESCRIPTION:
URL:https://albertofm.org/event/preach-parish-mission-st-elizabeth-ann-seton-church-las-vegas-nv/
END:VEVENT
BEGIN:VEVENT
DTSTART;TZID=America/Chicago:20211009T080000
DTEND;TZID=America/Chicago:20211012T170000
DTSTAMP:20260422T051038
CREATED:20210314T104730Z
LAST-MODIFIED:20210314T104730Z
UID:1795-1633766400-1634058000@albertofm.org
SUMMARY:PREACH Parish Mission\, St. Mary Catholic Church\, Berea OH
DESCRIPTION:
URL:https://albertofm.org/event/preach-parish-mission-st-mary-catholic-church-berea-oh/
END:VEVENT
BEGIN:VEVENT
DTSTART;TZID=America/Chicago:20210926T080000
DTEND;TZID=America/Chicago:20210929T170000
DTSTAMP:20260422T051038
CREATED:20210624T123330Z
LAST-MODIFIED:20210624T123330Z
UID:1822-1632643200-1632934800@albertofm.org
SUMMARY:VISIT St. Francis Springs Retreat Center\, Stoneville NC
DESCRIPTION:
URL:https://albertofm.org/event/visit-st-francis-springs-retreat-center-stoneville-nc/
END:VEVENT
BEGIN:VEVENT
DTSTART;TZID=America/Chicago:20210917T080000
DTEND;TZID=America/Chicago:20210918T170000
DTSTAMP:20260422T051038
CREATED:20201223T174305Z
LAST-MODIFIED:20201223T174305Z
UID:1766-1631865600-1631984400@albertofm.org
SUMMARY:PREACH Day of Recollection\, St. Bernard Church\, Appleton WI
DESCRIPTION:
URL:https://albertofm.org/event/preach-day-of-recollection-st-bernard-church-appleton-wi/
END:VEVENT
BEGIN:VEVENT
DTSTART;TZID=America/Chicago:20210911T080000
DTEND;TZID=America/Chicago:20210915T170000
DTSTAMP:20260422T051038
CREATED:20201214T171404Z
LAST-MODIFIED:20201214T171404Z
UID:1763-1631347200-1631725200@albertofm.org
SUMMARY:PREACH Parish Mission: Christ the King\, Belton\, TX
DESCRIPTION:
URL:https://albertofm.org/event/preach-parish-mission-christ-the-king-belton-tx/
END:VEVENT
BEGIN:VEVENT
DTSTART;TZID=America/Chicago:20210802T080000
DTEND;TZID=America/Chicago:20210804T170000
DTSTAMP:20260422T051038
CREATED:20200313T104614Z
LAST-MODIFIED:20200313T104614Z
UID:1648-1627891200-1628096400@albertofm.org
SUMMARY:PREACH RETREAT for Voluntas Dei USA\, Holy Family Retreat House\, Hartford CT
DESCRIPTION:
URL:https://albertofm.org/event/preach-retreat-for-voluntas-dei-usa-holy-family-retreat-house-hartford-ct/
END:VEVENT
BEGIN:VEVENT
DTSTART;TZID=America/Chicago:20210620T080000
DTEND;TZID=America/Chicago:20210625T170000
DTSTAMP:20260422T051038
CREATED:20210302T221652Z
LAST-MODIFIED:20210302T221652Z
UID:1791-1624176000-1624640400@albertofm.org
SUMMARY:PREACH Religious Sisters' Retreat\, Cedarbrake Retreat Center\, Temple TX
DESCRIPTION:
URL:https://albertofm.org/event/preach-religious-sisters-retreat-cedarbrake-retreat-center-temple-tx/
END:VEVENT
BEGIN:VEVENT
DTSTART;TZID=America/Chicago:20210612T090000
DTEND;TZID=America/Chicago:20210612T120000
DTSTAMP:20260422T051038
CREATED:20210302T220434Z
LAST-MODIFIED:20210302T220434Z
UID:1789-1623488400-1623499200@albertofm.org
SUMMARY:ZOOM Presentations to Regional Leaders of Worldwide Marriage Encounter
DESCRIPTION:
URL:https://albertofm.org/event/zoom-presentations-to-regional-leaders-of-worldwide-marriage-encounter/
END:VEVENT
BEGIN:VEVENT
DTSTART;TZID=America/Chicago:20210418T080000
DTEND;TZID=America/Chicago:20210422T170000
DTSTAMP:20260422T051038
CREATED:20210115T153942Z
LAST-MODIFIED:20210115T153942Z
UID:1772-1618732800-1619110800@albertofm.org
SUMMARY:PREACH RETREAT to OFM Postulants\, Silver Spring MD
DESCRIPTION:
URL:https://albertofm.org/event/preach-retreat-to-ofm-postulants-silver-spring-md/
END:VEVENT
BEGIN:VEVENT
DTSTART;TZID=America/Chicago:20210323T090000
DTEND;TZID=America/Chicago:20210323T143000
DTSTAMP:20260422T051038
CREATED:20210116T014405Z
LAST-MODIFIED:20210118T151619Z
UID:1776-1616490000-1616509800@albertofm.org
SUMMARY:PREACH Day of Recollection: St. Louis Catholic Church\, Waco TX
DESCRIPTION:
URL:https://albertofm.org/event/preach-day-of-recollection-st-jerome-catholic-church-waco-tx/
END:VEVENT
BEGIN:VEVENT
DTSTART;TZID=America/Chicago:20210319T180000
DTEND;TZID=America/Chicago:20210320T120000
DTSTAMP:20260422T051038
CREATED:20210116T125447Z
LAST-MODIFIED:20210116T125447Z
UID:1778-1616176800-1616241600@albertofm.org
SUMMARY:ZOOM PRESENTATIONS\, "Hearing God's Voice in Your Life\," Mepkin Trappist Abbey\, Moncks Corner SC
DESCRIPTION:
URL:https://albertofm.org/event/zoom-presentations-hearing-gods-voice-in-your-life-mepkin-trappist-abbey-moncks-corner-sc/
END:VEVENT
BEGIN:VEVENT
DTSTART;TZID=America/Chicago:20210306T080000
DTEND;TZID=America/Chicago:20210310T170000
DTSTAMP:20260422T051038
CREATED:20190625T102035Z
LAST-MODIFIED:20190625T102035Z
UID:1565-1615017600-1615395600@albertofm.org
SUMMARY:PREACH Parish Mission\, St. Jude Church\, Sandy Springs GA
DESCRIPTION:
URL:https://albertofm.org/event/preach-parish-mission-st-jude-church-sandy-springs-ga/
END:VEVENT
BEGIN:VEVENT
DTSTART;TZID=America/Chicago:20210227T080000
DTEND;TZID=America/Chicago:20210303T170000
DTSTAMP:20260422T051038
CREATED:20200309T195135Z
LAST-MODIFIED:20200309T195135Z
UID:1646-1614412800-1614790800@albertofm.org
SUMMARY:PARISH MISSION: St. Margaret Mary Church\, Cedar Park TX
DESCRIPTION:
URL:https://albertofm.org/event/parish-mission-st-margaret-mary-church-cedar-park-tx/
END:VEVENT
BEGIN:VEVENT
DTSTART;TZID=America/Chicago:20210225T140000
DTEND;TZID=America/Chicago:20210225T160000
DTSTAMP:20260422T051038
CREATED:20210116T014219Z
LAST-MODIFIED:20210116T014219Z
UID:1774-1614261600-1614268800@albertofm.org
SUMMARY:ZOOM PRESENTATION for Diocese of Dallas TX: The Spiritual Journey as a Process of Transformation
DESCRIPTION:
URL:https://albertofm.org/event/zoom-presentation-for-diocese-of-dallas-tx-the-spiritual-journey-as-a-process-of-transformation/
END:VEVENT
BEGIN:VEVENT
DTSTART;TZID=America/Chicago:20210206T080000
DTEND;TZID=America/Chicago:20210210T170000
DTSTAMP:20260422T051038
CREATED:20190905T152358Z
LAST-MODIFIED:20190905T152358Z
UID:1598-1612598400-1612976400@albertofm.org
SUMMARY:PREACH Parish Mission: St. Paul Catholic Community\, Leesburg FL
DESCRIPTION:
URL:https://albertofm.org/event/preach-parish-mission-st-paul-catholic-community-leesburg-fl/
END:VEVENT
BEGIN:VEVENT
DTSTART;TZID=America/Chicago:20210122T080000
DTEND;TZID=America/Chicago:20210126T170000
DTSTAMP:20260422T051038
CREATED:20200911T115505Z
LAST-MODIFIED:20200911T115505Z
UID:1708-1611302400-1611680400@albertofm.org
SUMMARY:PREACH RETREAT: Brothers of Saint John\, Laredo TX
DESCRIPTION:
URL:https://albertofm.org/event/preach-retreat-brothers-of-saint-john-laredo-tx/
END:VEVENT
BEGIN:VEVENT
DTSTART;TZID=America/Chicago:20210115T170000
DTEND;TZID=America/Chicago:20210117T120000
DTSTAMP:20260422T051038
CREATED:20190308T222414Z
LAST-MODIFIED:20190308T222414Z
UID:1483-1610730000-1610884800@albertofm.org
SUMMARY:PREACH RETREAT\, Cedarbrake Retreat Center\, Belton TX
DESCRIPTION:
URL:https://albertofm.org/event/preach-retreat-cedarbrake-retreat-center-belton-tx/
END:VEVENT
BEGIN:VEVENT
DTSTART;TZID=America/Chicago:20210111T090000
DTEND;TZID=America/Chicago:20210115T120000
DTSTAMP:20260422T051038
CREATED:20200924T211848Z
LAST-MODIFIED:20200924T211848Z
UID:1715-1610355600-1610712000@albertofm.org
SUMMARY:PREACH Priest Retreat\, Diocese of Austin TX\, Cedarbrake Retreat Center
DESCRIPTION:
URL:https://albertofm.org/event/preach-priest-retreat-diocese-of-austin-tx-cedarbrake-retreat-center/
END:VEVENT
BEGIN:VEVENT
DTSTART;TZID=America/Chicago:20201225T080000
DTEND;TZID=America/Chicago:20210102T170000
DTSTAMP:20260422T051038
CREATED:20200318T101539Z
LAST-MODIFIED:20200318T101539Z
UID:1655-1608883200-1609606800@albertofm.org
SUMMARY:PERSONAL RETREAT\, Mepkin Abbey\, Charleston SC
DESCRIPTION:
URL:https://albertofm.org/event/personal-retreat-mepkin-abbey-charleston-sc-2/
END:VEVENT
BEGIN:VEVENT
DTSTART;TZID=America/Chicago:20201204T090000
DTEND;TZID=America/Chicago:20201204T140000
DTSTAMP:20260422T051038
CREATED:20201007T174631Z
LAST-MODIFIED:20201007T174631Z
UID:1720-1607072400-1607090400@albertofm.org
SUMMARY:PREACH Advent Day of Recollection for Diocesan Pastoral Staff\, St. William Church\, Round Rock TX
DESCRIPTION:
URL:https://albertofm.org/event/preach-advent-day-of-recollection-for-diocesan-pastoral-staff-st-william-church-round-rock-tx/
END:VEVENT
BEGIN:VEVENT
DTSTART;TZID=America/Chicago:20201202T090000
DTEND;TZID=America/Chicago:20201202T143000
DTSTAMP:20260422T051038
CREATED:20200827T010441Z
LAST-MODIFIED:20200827T010441Z
UID:1683-1606899600-1606919400@albertofm.org
SUMMARY:PREACH Day of Recollection\, St. Albert the Great Church Staff\, Cedarbrake Retreat Center
DESCRIPTION:
URL:https://albertofm.org/event/preach-day-of-recollection-st-albert-the-great-church-staff-cedarbrake-retreat-center/
END:VEVENT
BEGIN:VEVENT
DTSTART;TZID=America/Chicago:20201201T100000
DTEND;TZID=America/Chicago:20201201T143000
DTSTAMP:20260422T051038
CREATED:20200924T211733Z
LAST-MODIFIED:20200924T211733Z
UID:1713-1606816800-1606833000@albertofm.org
SUMMARY:PREACH Clergy Advent Day of Prayer\, Diocese of Austin TX
DESCRIPTION:
URL:https://albertofm.org/event/preach-clergy-advent-day-of-prayer-diocese-of-austin-tx/
END:VEVENT
BEGIN:VEVENT
DTSTART;TZID=America/Chicago:20201130T140000
DTEND;TZID=America/Chicago:20201130T150000
DTSTAMP:20260422T051038
CREATED:20201009T175428Z
LAST-MODIFIED:20201009T175428Z
UID:1723-1606744800-1606748400@albertofm.org
SUMMARY:ZOOM TALK for Youth Ministers in the Archdiocese of Galveston-Houston
DESCRIPTION:
URL:https://albertofm.org/event/zoom-talk-for-youth-ministers-in-the-archdiocese-of-galveston-houston/
END:VEVENT
BEGIN:VEVENT
DTSTART;VALUE=DATE:20201120
DTEND;VALUE=DATE:20201123
DTSTAMP:20260422T051038
CREATED:20190308T102744Z
LAST-MODIFIED:20190308T102744Z
UID:1461-1605830400-1606089599@albertofm.org
SUMMARY:TRAIN SPIRITUAL DIRECTORS\, Cedarbrake Retreat Center\, Belton TX
DESCRIPTION:
URL:https://albertofm.org/event/train-spiritual-directors-cedarbrake-retreat-center-belton-tx-15/
END:VEVENT
BEGIN:VEVENT
DTSTART;TZID=America/Chicago:20201107T080000
DTEND;TZID=America/Chicago:20201107T170000
DTSTAMP:20260422T051038
CREATED:20200319T210511Z
LAST-MODIFIED:20200319T210511Z
UID:1657-1604736000-1604768400@albertofm.org
SUMMARY:TEACH Day of Spirituality\, St. Thomas Church\, Ruston LA
DESCRIPTION:
URL:https://albertofm.org/event/teach-day-of-spirituality-st-thomas-church-ruston-la/
END:VEVENT
BEGIN:VEVENT
DTSTART;TZID=America/Chicago:20201104T090000
DTEND;TZID=America/Chicago:20201104T140000
DTSTAMP:20260422T051038
CREATED:20201002T185902Z
LAST-MODIFIED:20201002T185902Z
UID:1718-1604480400-1604498400@albertofm.org
SUMMARY:PREACH Day of Recollection\, Lay Missionaries of Charity\, Cedarbrake Retreat Center\, Temple TX
DESCRIPTION:
URL:https://albertofm.org/event/preach-day-of-recollection-lay-missionaries-of-charity-cedarbrake-retreat-center-temple-tx/
END:VEVENT
BEGIN:VEVENT
DTSTART;TZID=America/Chicago:20201030T080000
DTEND;TZID=America/Chicago:20201101T170000
DTSTAMP:20260422T051038
CREATED:20190308T102648Z
LAST-MODIFIED:20190308T102648Z
UID:1459-1604044800-1604250000@albertofm.org
SUMMARY:TRAIN SPIRITUAL DIRECTORS\, Cedarbrake Retreat Center\, Belton TX
DESCRIPTION:
URL:https://albertofm.org/event/train-spiritual-directors-cedarbrake-retreat-center-belton-tx-14/
END:VEVENT
END:VCALENDAR