BEGIN:VCALENDAR
VERSION:2.0
PRODID:-//Albert Haase, OFM - ECPv6.15.20//NONSGML v1.0//EN
CALSCALE:GREGORIAN
METHOD:PUBLISH
X-WR-CALNAME:Albert Haase, OFM
X-ORIGINAL-URL:https://albertofm.org
X-WR-CALDESC:Events for Albert Haase, OFM
REFRESH-INTERVAL;VALUE=DURATION:PT1H
X-Robots-Tag:noindex
X-PUBLISHED-TTL:PT1H
BEGIN:VTIMEZONE
TZID:America/Chicago
BEGIN:DAYLIGHT
TZOFFSETFROM:-0600
TZOFFSETTO:-0500
TZNAME:CDT
DTSTART:20260308T080000
END:DAYLIGHT
BEGIN:STANDARD
TZOFFSETFROM:-0500
TZOFFSETTO:-0600
TZNAME:CST
DTSTART:20261101T070000
END:STANDARD
BEGIN:DAYLIGHT
TZOFFSETFROM:-0600
TZOFFSETTO:-0500
TZNAME:CDT
DTSTART:20270314T080000
END:DAYLIGHT
BEGIN:STANDARD
TZOFFSETFROM:-0500
TZOFFSETTO:-0600
TZNAME:CST
DTSTART:20271107T070000
END:STANDARD
BEGIN:DAYLIGHT
TZOFFSETFROM:-0600
TZOFFSETTO:-0500
TZNAME:CDT
DTSTART:20280312T080000
END:DAYLIGHT
BEGIN:STANDARD
TZOFFSETFROM:-0500
TZOFFSETTO:-0600
TZNAME:CST
DTSTART:20281105T070000
END:STANDARD
BEGIN:DAYLIGHT
TZOFFSETFROM:-0600
TZOFFSETTO:-0500
TZNAME:CDT
DTSTART:20290311T080000
END:DAYLIGHT
BEGIN:STANDARD
TZOFFSETFROM:-0500
TZOFFSETTO:-0600
TZNAME:CST
DTSTART:20291104T070000
END:STANDARD
END:VTIMEZONE
BEGIN:VEVENT
DTSTART;TZID=America/Chicago:20271001T080000
DTEND;TZID=America/Chicago:20271003T170000
DTSTAMP:20260425T065644
CREATED:20251218T172030Z
LAST-MODIFIED:20251218T172030Z
UID:2824-1822377600-1822582800@albertofm.org
SUMMARY:PREACH Deacon Retreat\, Center for Continuing Formation\, Baltimore MD
DESCRIPTION:
URL:https://albertofm.org/event/preach-deacon-retreat-center-for-continuing-formation-baltimore-md/
END:VEVENT
BEGIN:VEVENT
DTSTART;TZID=America/Chicago:20271210T080000
DTEND;TZID=America/Chicago:20271212T170000
DTSTAMP:20260425T065644
CREATED:20260116T010849Z
LAST-MODIFIED:20260116T010849Z
UID:2838-1828425600-1828630800@albertofm.org
SUMMARY:PREACH Retreat to Spiritual Directors\, Passionist Retreat Center\, Houston TX
DESCRIPTION:
URL:https://albertofm.org/event/preach-retreat-to-spiritual-directors-passionist-retreat-center-houston-tx/
END:VEVENT
BEGIN:VEVENT
DTSTART;TZID=America/Chicago:20280311T080000
DTEND;TZID=America/Chicago:20280315T170000
DTSTAMP:20260425T065644
CREATED:20250819T135533Z
LAST-MODIFIED:20250819T135533Z
UID:2787-1836374400-1836752400@albertofm.org
SUMMARY:PREACH Parish Mission: St. Joseph\, Honey Creek TX
DESCRIPTION:
URL:https://albertofm.org/event/preach-parish-mission-st-joseph-honey-creek-tx/
END:VEVENT
END:VCALENDAR